BEGIN:VCALENDAR
VERSION:2.0
PRODID:-//MyVegasMag | The Best Las Vegas Magazine - ECPv6.15.20//NONSGML v1.0//EN
CALSCALE:GREGORIAN
METHOD:PUBLISH
X-WR-CALNAME:MyVegasMag | The Best Las Vegas Magazine
X-ORIGINAL-URL:https://myvegasmag.com
X-WR-CALDESC:Events for MyVegasMag | The Best Las Vegas Magazine
REFRESH-INTERVAL;VALUE=DURATION:PT1H
X-Robots-Tag:noindex
X-PUBLISHED-TTL:PT1H
BEGIN:VTIMEZONE
TZID:UTC
BEGIN:STANDARD
TZOFFSETFROM:+0000
TZOFFSETTO:+0000
TZNAME:UTC
DTSTART:20210101T000000
END:STANDARD
END:VTIMEZONE
BEGIN:VEVENT
DTSTART;TZID=UTC:20220603T090000
DTEND;TZID=UTC:20220603T130000
DTSTAMP:20260423T080151
CREATED:20220602T025815Z
LAST-MODIFIED:20220702T073936Z
UID:16641-1654246800-1654261200@myvegasmag.com
SUMMARY:Upscale Craft & Yard Sale
DESCRIPTION:Event Website \nSell your crafts\, art\, jewelry\, and other items of interest. Registration includes one five-foot table and one chair outside on the patio. All items must fit on the table provided. No commercial items or vendors. It’s free admission for all ages to shop. \n$10 per booth. Register using activity code 153061. \nHeritage Park Senior Facility\n300 S. Racetrack Rd.\nHenderson\, Nevada 89015
URL:https://myvegasmag.com/event/upscale-craft-yard-sale/
CATEGORIES:My Calendar of Events
ATTACH;FMTTYPE=image/png:https://myvegasmag.com/wp-content/uploads/2022/06/Upscale-craft-Yard-sale-Presentation-169.png
END:VEVENT
BEGIN:VEVENT
DTSTART;VALUE=DATE:20220520
DTEND;VALUE=DATE:20220523
DTSTAMP:20260423T080151
CREATED:20220504T011725Z
LAST-MODIFIED:20220504T011725Z
UID:16496-1653004800-1653263999@myvegasmag.com
SUMMARY:EDC VEGAS
DESCRIPTION:
URL:https://myvegasmag.com/event/edc-vegas/
ATTACH;FMTTYPE=image/png:https://myvegasmag.com/wp-content/uploads/2022/05/edc.png
END:VEVENT
BEGIN:VEVENT
DTSTART;TZID=UTC:20220519T173000
DTEND;TZID=UTC:20220519T200000
DTSTAMP:20260423T080151
CREATED:20220429T065316Z
LAST-MODIFIED:20220518T062214Z
UID:16476-1652981400-1652990400@myvegasmag.com
SUMMARY:Big Horn Law Grand Opening
DESCRIPTION:
URL:https://myvegasmag.com/event/big-horn-law-grand-opening/
ATTACH;FMTTYPE=image/jpeg:https://myvegasmag.com/wp-content/uploads/2022/04/thumbnail_BigHorn-Law-Grand-Opening.jpeg
END:VEVENT
BEGIN:VEVENT
DTSTART;TZID=UTC:20220515T130000
DTEND;TZID=UTC:20220515T170000
DTSTAMP:20260423T080151
CREATED:20220429T065024Z
LAST-MODIFIED:20220429T065024Z
UID:16472-1652619600-1652634000@myvegasmag.com
SUMMARY:Wine Women & Shoes
DESCRIPTION:Wine tasting\nDelicious bites\ndesigner shopping \nGlamorous Fashion Show\nIncredible Auction Lots\nCharming Shoe Guys\nBest In Shoe Awards\nand more..
URL:https://myvegasmag.com/event/wine-women-shoes/
ATTACH;FMTTYPE=image/jpeg:https://myvegasmag.com/wp-content/uploads/2022/04/Las-Vegas-Nevada-Ad-5x4.75-2022.jpg
END:VEVENT
BEGIN:VEVENT
DTSTART;VALUE=DATE:20220514
DTEND;VALUE=DATE:20220516
DTSTAMP:20260423T080151
CREATED:20220504T011224Z
LAST-MODIFIED:20220504T011224Z
UID:16493-1652486400-1652659199@myvegasmag.com
SUMMARY:Lovers & Friends Fest
DESCRIPTION:
URL:https://myvegasmag.com/event/lovers-friends-fest/
ATTACH;FMTTYPE=image/jpeg:https://myvegasmag.com/wp-content/uploads/2022/05/lovers-and-friends.jpeg
END:VEVENT
BEGIN:VEVENT
DTSTART;TZID=UTC:20220512T190000
DTEND;TZID=UTC:20220512T220000
DTSTAMP:20260423T080151
CREATED:20220421T020547Z
LAST-MODIFIED:20220427T064215Z
UID:16308-1652382000-1652392800@myvegasmag.com
SUMMARY:Epicurean Affair
DESCRIPTION:The Nevada Restaurant Association is thrilled to announce the return of the Epicurean Affair at the Red Rock Resort\, Casino & Spa May 12\, 2022. Las Vegas’ finest restaurants\, nightclubs and beverage purveyors will come together for this tasty event. This gourmet event featuring savory cuisine and succulent cocktails is set poolside for an elegant and fun evening. Join us for a night of divine indulgence. \nVIP early admission includes access to the event at 6:00pm\, an hour before the scheduled general admission start at 7:00pm. \n​\nEvent proceeds help support the Nevada Restaurant Association’s educational and scholarship programs\, such as ProStart\, a national high school culinary skill and restaurant management program. In Nevada\, students take part in the program statewide\, which teaches students the skills and knowledge needed to succeed in the foodservice industry.* \nAttendees and participants must be 21 years or older to attend. Email events@nvrestaurants.com with any questions.
URL:https://myvegasmag.com/event/epicurean-affair/
LOCATION:Red Rock Casino\, 11011 West Charleston Boulevard\, Las Vegas\, NV\, 89135\, United States
CATEGORIES:This Week In Vegas
ATTACH;FMTTYPE=image/png:https://myvegasmag.com/wp-content/uploads/2022/04/epi.png
END:VEVENT
BEGIN:VEVENT
DTSTART;TZID=UTC:20220504T180000
DTEND;TZID=UTC:20220504T220000
DTSTAMP:20260423T080151
CREATED:20220421T015922Z
LAST-MODIFIED:20220421T020223Z
UID:16302-1651687200-1651701600@myvegasmag.com
SUMMARY:Mark Shaffer For Nevada Launch Party!
DESCRIPTION:Join us for an exciting evening with your candidate for Nevada State Senate District 8\, our very own Mark Shaffer! Also\, meet the 2022 Top 100 Doctors and the 2022 Top 100 Real Estate Professionals!\nCelebrating our newest Issue release of MYVEGAS Magazine.\n– Enjoy your First Drink Free\, Free Raffle Prizes\, and Free Appetizers! \n– Live DJ and Zowie Bowie LIVE! \n  \n  \nIF YOU’D LIKE TO CONTRIBUTE RAFFLE ITEMS FROM YOUR BUSINESS\, PLEASE REACH OUT TO OUR TEAM AT INFO@MYVEGASMAG.COM OR CALL 702-792-2378
URL:https://myvegasmag.com/event/mark-shaffer-for-nevada-launch-party/
LOCATION:Blue Martini Town Square\, 6593 South Las Vegas Boulevard L\, B214\,\, Las Vegas\, NV\, 89119\, United States
ATTACH;FMTTYPE=image/jpeg:https://myvegasmag.com/wp-content/uploads/2022/04/unnamed.jpg
END:VEVENT
BEGIN:VEVENT
DTSTART;VALUE=DATE:20220428
DTEND;VALUE=DATE:20220501
DTSTAMP:20260423T080151
CREATED:20220427T064123Z
LAST-MODIFIED:20220427T071325Z
UID:16356-1651104000-1651363199@myvegasmag.com
SUMMARY:NFL DRAFT IN LAS VEGAS!
DESCRIPTION:
URL:https://myvegasmag.com/event/nfl-draft-in-las-vegas/
ATTACH;FMTTYPE=image/png:https://myvegasmag.com/wp-content/uploads/2022/04/1.png
END:VEVENT
BEGIN:VEVENT
DTSTART;TZID=UTC:20220422T080000
DTEND;TZID=UTC:20220424T170000
DTSTAMP:20260423T080151
CREATED:20220407T015143Z
LAST-MODIFIED:20220407T015143Z
UID:16081-1650614400-1650819600@myvegasmag.com
SUMMARY:Great Vegas Festival of beer
DESCRIPTION:The Great Vegas Festival of Beer returns in 2020. Featuring over 100 of the world’s top craft breweries\, discover Beer the Motley way and sample from over 500 different craft brews. Enjoy over-the-top culinary and craft beer creations at the Get Motley VIP Experience. Experience craft beer in a whole light with educational sessions and many other one-of-a-kind\, beer-centric event experiences.
URL:https://myvegasmag.com/event/great-vegas-festival-of-beer/
LOCATION:Downtown Las Vegas\, Fremont St & Las Vegas Blvd\, Las Vegas\, NV\, 89101\, United States
CATEGORIES:Featured Events
ATTACH;FMTTYPE=image/png:https://myvegasmag.com/wp-content/uploads/2022/04/beer.png
END:VEVENT
BEGIN:VEVENT
DTSTART;TZID=UTC:20220408T170000
DTEND;TZID=UTC:20220410T230000
DTSTAMP:20260423T080151
CREATED:20220407T013723Z
LAST-MODIFIED:20220407T015645Z
UID:16072-1649437200-1649631600@myvegasmag.com
SUMMARY:Great American Foodie Fest
DESCRIPTION:The Great American Foodie Fest features more than 50 of the Nation’s best gourmet food trucks and specialty foods\, with some of which have been featured on The Food Network\, History Channel\, Cooking Channel and Travel Channel along with carnival rides\, beer garden\, epic eating contests\, vendor booths and live entertainment.\n\n\n \nfFoodies will enjoy the four-day festival beginning on Thursday from 5 p.m. to 10pm\, Friday 5pm -11pm\, to continue on Saturday from11am to 11pm and on Sunday from noon to 10 pm.\n\n\nAdmission fees are Four Day Pass will be $8 presale\, $10 at the gate with unlimited re-entry to the festival. Children under 54 inches will receive complimentary admission.\n\n\nFor detailed information on the line-up of food vendors please got to our website.\n\n\nGuests may purchase limited discounted presale tickets through the website – www.GreatAmericanFoodieFest.com. 
URL:https://myvegasmag.com/event/great-american-foodie-fest/
LOCATION:Galleria Mall\, 1300 West Sunset\, Henderson\, NV\, United States
CATEGORIES:Featured Events
ATTACH;FMTTYPE=image/png:https://myvegasmag.com/wp-content/uploads/2022/04/gaff.png
END:VEVENT
BEGIN:VEVENT
DTSTART;TZID=UTC:20220322T180000
DTEND;TZID=UTC:20220322T210000
DTSTAMP:20260423T080151
CREATED:20220317T054140Z
LAST-MODIFIED:20220317T054753Z
UID:15526-1647972000-1647982800@myvegasmag.com
SUMMARY:Night On The Town W/ Sharelle
DESCRIPTION:RAFFLE PRIZES! FIRST DRINK FREE! FOOD\, FUN\, & FRIENDS! COMPLIMENTARY APPETIZERS! \nAbout Sharelle\nSharelle Mendenhall is a multi-talented and multifaceted leader with incredible levels of vision\, anointing\, and capacity. While some of her highest recognition has come in the form of holding the title of “beauty queen” as former Miss California and Mrs. Nevada\, her other achievements include actress\, model\, photographer\, producer\, and being a self-starter businesswoman with multiple successful businesses. What she puts her heart and mind to\, she achieves. Sharelle executes with excellence\, tenacity\, grit\, and passion—her mission always being to serve and honor God with every gift\, talent\, opportunity\, and ability He has given her.
URL:https://myvegasmag.com/event/night-on-the-town-w-sharelle/
CATEGORIES:Featured Events,Nights Out!,This Week In Vegas
ATTACH;FMTTYPE=image/png:https://myvegasmag.com/wp-content/uploads/2022/03/thumbnail_Sharelle-Luncheon-2.png
END:VEVENT
END:VCALENDAR