BEGIN:VCALENDAR
VERSION:2.0
PRODID:-//MyVegasMag | The Best Las Vegas Magazine - ECPv6.15.20//NONSGML v1.0//EN
CALSCALE:GREGORIAN
METHOD:PUBLISH
X-ORIGINAL-URL:https://myvegasmag.com
X-WR-CALDESC:Events for MyVegasMag | The Best Las Vegas Magazine
REFRESH-INTERVAL;VALUE=DURATION:PT1H
X-Robots-Tag:noindex
X-PUBLISHED-TTL:PT1H
BEGIN:VTIMEZONE
TZID:America/Los_Angeles
BEGIN:DAYLIGHT
TZOFFSETFROM:-0800
TZOFFSETTO:-0700
TZNAME:PDT
DTSTART:20240310T100000
END:DAYLIGHT
BEGIN:STANDARD
TZOFFSETFROM:-0700
TZOFFSETTO:-0800
TZNAME:PST
DTSTART:20241103T090000
END:STANDARD
BEGIN:DAYLIGHT
TZOFFSETFROM:-0800
TZOFFSETTO:-0700
TZNAME:PDT
DTSTART:20250309T100000
END:DAYLIGHT
BEGIN:STANDARD
TZOFFSETFROM:-0700
TZOFFSETTO:-0800
TZNAME:PST
DTSTART:20251102T090000
END:STANDARD
BEGIN:DAYLIGHT
TZOFFSETFROM:-0800
TZOFFSETTO:-0700
TZNAME:PDT
DTSTART:20260308T100000
END:DAYLIGHT
BEGIN:STANDARD
TZOFFSETFROM:-0700
TZOFFSETTO:-0800
TZNAME:PST
DTSTART:20261101T090000
END:STANDARD
END:VTIMEZONE
BEGIN:VTIMEZONE
TZID:UTC
BEGIN:STANDARD
TZOFFSETFROM:+0000
TZOFFSETTO:+0000
TZNAME:UTC
DTSTART:20210101T000000
END:STANDARD
END:VTIMEZONE
BEGIN:VEVENT
DTSTART;VALUE=DATE:20251017
DTEND;VALUE=DATE:20251104
DTSTAMP:20260423T060121
CREATED:20251010T180849Z
LAST-MODIFIED:20251010T182905Z
UID:38366-1760659200-1762214399@myvegasmag.com
SUMMARY:Marinelli Bros Circus
DESCRIPTION:    \nGET YOUR TICKETS! \nStep right up to a world of wonder and excitement—Marinelli Bros. Circus is more than a show\, it’s a magical adventure the whole family will never forget. Get your tickets now and make memories that last a lifetime! \n\n\n\n\n Two hour family friendly show.\n Tickets range from $15 to $55.\n Tasty food and drinks available on-site\n VIP seating options available\n Kids under 2 enter free\n Fun for all ages\nSenior and military discounts offers\n\nVisit: marinellibroscircus.com
URL:https://myvegasmag.com/event/marinelli-bros-circus/
LOCATION:Craig Ranch Regional Park\, 628 W Craig Rd\, North Las Vegas\, NV\, 89032\, United States
CATEGORIES:Featured Events,My Calendar of Events,This Week In Vegas
END:VEVENT
BEGIN:VEVENT
DTSTART;TZID=UTC:20220512T190000
DTEND;TZID=UTC:20220512T220000
DTSTAMP:20260423T060121
CREATED:20220421T020547Z
LAST-MODIFIED:20220427T064215Z
UID:16308-1652382000-1652392800@myvegasmag.com
SUMMARY:Epicurean Affair
DESCRIPTION:The Nevada Restaurant Association is thrilled to announce the return of the Epicurean Affair at the Red Rock Resort\, Casino & Spa May 12\, 2022. Las Vegas’ finest restaurants\, nightclubs and beverage purveyors will come together for this tasty event. This gourmet event featuring savory cuisine and succulent cocktails is set poolside for an elegant and fun evening. Join us for a night of divine indulgence. \nVIP early admission includes access to the event at 6:00pm\, an hour before the scheduled general admission start at 7:00pm. \n​\nEvent proceeds help support the Nevada Restaurant Association’s educational and scholarship programs\, such as ProStart\, a national high school culinary skill and restaurant management program. In Nevada\, students take part in the program statewide\, which teaches students the skills and knowledge needed to succeed in the foodservice industry.* \nAttendees and participants must be 21 years or older to attend. Email events@nvrestaurants.com with any questions.
URL:https://myvegasmag.com/event/epicurean-affair/
LOCATION:Red Rock Casino\, 11011 West Charleston Boulevard\, Las Vegas\, NV\, 89135\, United States
CATEGORIES:This Week In Vegas
ATTACH;FMTTYPE=image/png:https://myvegasmag.com/wp-content/uploads/2022/04/epi.png
END:VEVENT
BEGIN:VEVENT
DTSTART;TZID=UTC:20220322T180000
DTEND;TZID=UTC:20220322T210000
DTSTAMP:20260423T060121
CREATED:20220317T054140Z
LAST-MODIFIED:20220317T054753Z
UID:15526-1647972000-1647982800@myvegasmag.com
SUMMARY:Night On The Town W/ Sharelle
DESCRIPTION:RAFFLE PRIZES! FIRST DRINK FREE! FOOD\, FUN\, & FRIENDS! COMPLIMENTARY APPETIZERS! \nAbout Sharelle\nSharelle Mendenhall is a multi-talented and multifaceted leader with incredible levels of vision\, anointing\, and capacity. While some of her highest recognition has come in the form of holding the title of “beauty queen” as former Miss California and Mrs. Nevada\, her other achievements include actress\, model\, photographer\, producer\, and being a self-starter businesswoman with multiple successful businesses. What she puts her heart and mind to\, she achieves. Sharelle executes with excellence\, tenacity\, grit\, and passion—her mission always being to serve and honor God with every gift\, talent\, opportunity\, and ability He has given her.
URL:https://myvegasmag.com/event/night-on-the-town-w-sharelle/
LOCATION:NV
CATEGORIES:Featured Events,Nights Out!,This Week In Vegas
ATTACH;FMTTYPE=image/png:https://myvegasmag.com/wp-content/uploads/2022/03/thumbnail_Sharelle-Luncheon-2.png
END:VEVENT
END:VCALENDAR