BEGIN:VCALENDAR
VERSION:2.0
PRODID:-//MyVegasMag | The Best Las Vegas Magazine - ECPv6.15.20//NONSGML v1.0//EN
CALSCALE:GREGORIAN
METHOD:PUBLISH
X-ORIGINAL-URL:https://myvegasmag.com
X-WR-CALDESC:Events for MyVegasMag | The Best Las Vegas Magazine
REFRESH-INTERVAL;VALUE=DURATION:PT1H
X-Robots-Tag:noindex
X-PUBLISHED-TTL:PT1H
BEGIN:VTIMEZONE
TZID:America/Los_Angeles
BEGIN:DAYLIGHT
TZOFFSETFROM:-0800
TZOFFSETTO:-0700
TZNAME:PDT
DTSTART:20240310T100000
END:DAYLIGHT
BEGIN:STANDARD
TZOFFSETFROM:-0700
TZOFFSETTO:-0800
TZNAME:PST
DTSTART:20241103T090000
END:STANDARD
BEGIN:DAYLIGHT
TZOFFSETFROM:-0800
TZOFFSETTO:-0700
TZNAME:PDT
DTSTART:20250309T100000
END:DAYLIGHT
BEGIN:STANDARD
TZOFFSETFROM:-0700
TZOFFSETTO:-0800
TZNAME:PST
DTSTART:20251102T090000
END:STANDARD
BEGIN:DAYLIGHT
TZOFFSETFROM:-0800
TZOFFSETTO:-0700
TZNAME:PDT
DTSTART:20260308T100000
END:DAYLIGHT
BEGIN:STANDARD
TZOFFSETFROM:-0700
TZOFFSETTO:-0800
TZNAME:PST
DTSTART:20261101T090000
END:STANDARD
END:VTIMEZONE
BEGIN:VEVENT
DTSTART;TZID=America/Los_Angeles:20250830T150000
DTEND;TZID=America/Los_Angeles:20250830T233000
DTSTAMP:20260423T150452
CREATED:20250730T163849Z
LAST-MODIFIED:20250730T163849Z
UID:37886-1756566000-1756596600@myvegasmag.com
SUMMARY:Fiestas Fest at Downtown Las Vegas Events Center
DESCRIPTION:Celebrate the vibrant sounds of Latin music at Fiestas Fest on Saturday\, August 30! This all-ages festival kicks off at 3PM and features a powerhouse lineup including Neton Vega\, Edgardo Nuñez\, Los Gemelos de Sinaloa\, and more. Dance\, sing\, and soak up the energy of Las Vegas’ ultimate summer fiesta in the heart of Downtown.
URL:https://myvegasmag.com/event/fiestas-fest-at-downtown-las-vegas-events-center/
LOCATION:DTLV Events Center\, 200 S 3rd St\, Las Vegas\, NV\, 89101\, United States
CATEGORIES:My Calendar of Events
ATTACH;FMTTYPE=image/png:https://myvegasmag.com/wp-content/uploads/2025/07/7a02bi7n.png
END:VEVENT
BEGIN:VEVENT
DTSTART;TZID=America/Los_Angeles:20250905T180000
DTEND;TZID=America/Los_Angeles:20250905T233000
DTSTAMP:20260423T150452
CREATED:20250627T173106Z
LAST-MODIFIED:20250627T173106Z
UID:37712-1757095200-1757115000@myvegasmag.com
SUMMARY:First Friday | Downtown Las Vegas
DESCRIPTION:Monthly First Friday celebration highlighting art\, food\, music\, and more. \nJoin us in the Arts District in Downtown Las Vegas on the 1st Friday of every month to support local food\, art\, music\, and beverage vendors. \nVisit the First Friday website or follow us on Instagram for the latest information about our monthly event.
URL:https://myvegasmag.com/event/first-friday-downtown-las-vegas-4/
LOCATION:Las Vegas Arts District\, 1025 S 1st St\, Las Vegas\, NV\, 89101\, United States
CATEGORIES:My Calendar of Events
ATTACH;FMTTYPE=image/png:https://myvegasmag.com/wp-content/uploads/2025/02/SITE-EVENT-PHOTOS-8.png
END:VEVENT
BEGIN:VEVENT
DTSTART;TZID=America/Los_Angeles:20250906T090000
DTEND;TZID=America/Los_Angeles:20250906T140000
DTSTAMP:20260423T150452
CREATED:20250627T171429Z
LAST-MODIFIED:20250627T171429Z
UID:37697-1757149200-1757167200@myvegasmag.com
SUMMARY:Downtown Summerlin Farmers Market
DESCRIPTION:Las Vegas Farmers Market\nEvery Saturday\, 9:00 AM – 2:00 PM\nThe Pavilion at Downtown Summerlin
URL:https://myvegasmag.com/event/downtown-summerlin-farmers-market-12/
LOCATION:Downtown Summerlin\, 1980 Festival Plaza Drive\, Las Vegas\, NV\, 89135\, United States
CATEGORIES:My Calendar of Events
ATTACH;FMTTYPE=image/png:https://myvegasmag.com/wp-content/uploads/2025/02/SITE-EVENT-PHOTOS-9.png
END:VEVENT
BEGIN:VEVENT
DTSTART;TZID=America/Los_Angeles:20250913T160000
DTEND;TZID=America/Los_Angeles:20250913T210000
DTSTAMP:20260423T150452
CREATED:20250717T163050Z
LAST-MODIFIED:20250717T163050Z
UID:37799-1757779200-1757797200@myvegasmag.com
SUMMARY:CollabChella
DESCRIPTION:Introducing CollabChella\, the first-ever music fest from Collaboration Center—uniting great music\, good vibes\, and an even greater cause! \n🎸 When: Saturday\, September 13 | 4–9 PM📍 Where: Collaboration Center Campus – 8390 W Windmill Ln\, Las Vegas👥 Who: Adults 21+ \nEnjoy an evening of live local bands\, food trucks\, drinks\, and cool merch—all while supporting Las Vegas’ largest disability resource network. \nThis isn’t just another festival—it’s music with a mission
URL:https://myvegasmag.com/event/collabchella/
LOCATION:Collaboration Center Campus\, 8390 W Windmill Ln\, Las Vegas\, NV\, 89113\, United States
CATEGORIES:My Calendar of Events
ATTACH;FMTTYPE=image/png:https://myvegasmag.com/wp-content/uploads/2025/07/6k19h29w.png
END:VEVENT
BEGIN:VEVENT
DTSTART;TZID=America/Los_Angeles:20250914T100000
DTEND;TZID=America/Los_Angeles:20250914T160000
DTSTAMP:20260423T150452
CREATED:20250730T162422Z
LAST-MODIFIED:20250730T162422Z
UID:37880-1757844000-1757865600@myvegasmag.com
SUMMARY:Sunday Stroll at Downtown Summerlin
DESCRIPTION:Stroll\, sip\, and shop local at Sunday Stroll presented by Market in The Alley\, happening Sunday\, September 14 from 10AM–4PM under the Pavilion at Downtown Summerlin. Browse unique pieces from local artisans\, catch live art demos\, and enjoy curated food and drink selections. Whether you’re searching for something special or simply enjoying the atmosphere\, it’s a perfect day to support the local creative community.
URL:https://myvegasmag.com/event/sunday-stroll-at-downtown-summerlin/
LOCATION:Downtown Summerlin\, 1980 Festival Plaza Drive\, Las Vegas\, NV\, 89135\, United States
CATEGORIES:My Calendar of Events
ATTACH;FMTTYPE=image/png:https://myvegasmag.com/wp-content/uploads/2025/07/zf7vpp4d.png
END:VEVENT
BEGIN:VEVENT
DTSTART;VALUE=DATE:20250924
DTEND;VALUE=DATE:20250929
DTSTAMP:20260423T150452
CREATED:20250507T190044Z
LAST-MODIFIED:20250507T190044Z
UID:37429-1758672000-1759103999@myvegasmag.com
SUMMARY:2025 WideScreen Film & Music Video Festival
DESCRIPTION:The 11th Annual WideScreen Film & Music Video Festival returns to Las Vegas from September 24–28\, 2025\, hosted at the iconic Golden Nugget Hotel & Casino in Downtown Las Vegas. \nThis five-day celebration brings together filmmakers\, music video creators\, and entertainment professionals from around the globe for an unforgettable experience filled with screenings\, networking\, and industry insight. Festival highlights include exclusive pitch sessions\, creator mixers\, VIP meet-and-greets\, and nightly afterparties. Attendees can also enjoy sightseeing tours\, red carpet events\, and the much-anticipated awards ceremony on Saturday night. \nWhether you’re a creative\, an industry pro\, or a fan of film and music culture\, WideScreen offers an immersive and dynamic festival experience in the heart of Las Vegas.
URL:https://myvegasmag.com/event/2025-widescreen-film-music-video-festival/
LOCATION:Golden Nugget Hotel & Casino\, 129 S. Fremont St.\, Las Vegas\, NV\, 89101\, United States
CATEGORIES:My Calendar of Events
ATTACH;FMTTYPE=image/png:https://myvegasmag.com/wp-content/uploads/2025/05/sohswf09.png
END:VEVENT
BEGIN:VEVENT
DTSTART;TZID=America/Los_Angeles:20250926T190000
DTEND;TZID=America/Los_Angeles:20250926T233000
DTSTAMP:20260423T150452
CREATED:20250730T161719Z
LAST-MODIFIED:20250730T161719Z
UID:37877-1758913200-1758929400@myvegasmag.com
SUMMARY:Toy Story in Concert: 30th Anniversary Celebration
DESCRIPTION:Celebrate 30 years of Disney and Pixar’s Toy Story with a free outdoor screening and live orchestra performance at Water Street Plaza. On Friday\, September 26\, the Henderson Symphony Orchestra will bring the film’s beloved score to life during a special showing under the stars. Doors open at 6:30pm\, show starts at 7pm. Bring your chairs\, blankets\, and favorite movie snacks—Las Vegas Kettle Corn will be onsite too! This all-ages event is free and family-friendly. No outside alcohol or coolers allowed.
URL:https://myvegasmag.com/event/toy-story-in-concert-30th-anniversary-celebration/
LOCATION:Water Street Plaza Ampitheater\, 240 S. Water St\, Henderson\, NV\, 89015\, United States
CATEGORIES:My Calendar of Events
ATTACH;FMTTYPE=image/png:https://myvegasmag.com/wp-content/uploads/2025/07/adz28hmi.png
END:VEVENT
BEGIN:VEVENT
DTSTART;TZID=America/Los_Angeles:20250927T190000
DTEND;TZID=America/Los_Angeles:20250927T220000
DTSTAMP:20260423T150452
CREATED:20250730T163157Z
LAST-MODIFIED:20250730T163242Z
UID:37883-1758999600-1759010400@myvegasmag.com
SUMMARY:New Vista Wine Walk
DESCRIPTION:Raise a glass for a good cause at the New Vista Wine Walk on Saturday\, September 27 from 7PM–10PM under the Pavilion at Downtown Summerlin. Enjoy 18+ wine tasting stations\, live entertainment\, and a vibrant atmosphere perfect for friends\, families\, and even leashed pets. All proceeds support New Vista’s mission to empower individuals with Intellectual and Developmental Disabilities. It’s a night of wine\, community\, and weekend fun—cheers to that!
URL:https://myvegasmag.com/event/new-vista-wine-walk-2/
LOCATION:Downtown Summerlin\, 1980 Festival Plaza Drive\, Las Vegas\, NV\, 89135\, United States
CATEGORIES:My Calendar of Events
ATTACH;FMTTYPE=image/png:https://myvegasmag.com/wp-content/uploads/2025/07/509bll1o.png
END:VEVENT
BEGIN:VEVENT
DTSTART;TZID=America/Los_Angeles:20251003T180000
DTEND;TZID=America/Los_Angeles:20251003T233000
DTSTAMP:20260423T150452
CREATED:20250627T173220Z
LAST-MODIFIED:20250627T173220Z
UID:37714-1759514400-1759534200@myvegasmag.com
SUMMARY:First Friday | Downtown Las Vegas
DESCRIPTION:Monthly First Friday celebration highlighting art\, food\, music\, and more. \nJoin us in the Arts District in Downtown Las Vegas on the 1st Friday of every month to support local food\, art\, music\, and beverage vendors. \nVisit the First Friday website or follow us on Instagram for the latest information about our monthly event.
URL:https://myvegasmag.com/event/first-friday-downtown-las-vegas-5/
LOCATION:Las Vegas Arts District\, 1025 S 1st St\, Las Vegas\, NV\, 89101\, United States
CATEGORIES:My Calendar of Events
END:VEVENT
BEGIN:VEVENT
DTSTART;VALUE=DATE:20251010
DTEND;VALUE=DATE:20251013
DTSTAMP:20260423T150452
CREATED:20250505T174534Z
LAST-MODIFIED:20250505T174534Z
UID:37338-1760054400-1760313599@myvegasmag.com
SUMMARY:Best Friends Forever
DESCRIPTION:The second annual Best Friends Forever Fest returns to the Downtown Las Vegas Events Center from October 10–12\, 2025\, delivering three unforgettable days of music and nostalgia. \nWith two stages and no overlapping sets\, fans won’t miss a single moment as iconic acts and emerging artists take the spotlight. This year’s lineup includes Jimmy Eat World\, Jawbreaker\, Minus the Bear (performing Menos el Oso)\, and a very special appearance by Rilo Kiley. Highlights include rare performances\, full-album sets\, long-awaited reunions\, and heartfelt farewells from bands like Mineral\, Cursive\, Pedro the Lion\, and more. \nDoors open daily at 12:00 PM. Don’t miss this celebration of emo\, indie\, and post-hardcore past and present.
URL:https://myvegasmag.com/event/best-friends-forever/
LOCATION:Downtown Las Vegas Event Center\, 200 S 3rd St\, Las Vegas\, NV\, 89101\, United States
CATEGORIES:My Calendar of Events
ATTACH;FMTTYPE=image/png:https://myvegasmag.com/wp-content/uploads/2025/05/SITE-EVENT-PHOTOS-5.png
END:VEVENT
BEGIN:VEVENT
DTSTART;VALUE=DATE:20251017
DTEND;VALUE=DATE:20251104
DTSTAMP:20260423T150452
CREATED:20251010T180849Z
LAST-MODIFIED:20251010T182905Z
UID:38366-1760659200-1762214399@myvegasmag.com
SUMMARY:Marinelli Bros Circus
DESCRIPTION:    \nGET YOUR TICKETS! \nStep right up to a world of wonder and excitement—Marinelli Bros. Circus is more than a show\, it’s a magical adventure the whole family will never forget. Get your tickets now and make memories that last a lifetime! \n\n\n\n\n Two hour family friendly show.\n Tickets range from $15 to $55.\n Tasty food and drinks available on-site\n VIP seating options available\n Kids under 2 enter free\n Fun for all ages\nSenior and military discounts offers\n\nVisit: marinellibroscircus.com
URL:https://myvegasmag.com/event/marinelli-bros-circus/
LOCATION:Craig Ranch Regional Park\, 628 W Craig Rd\, North Las Vegas\, NV\, 89032\, United States
CATEGORIES:Featured Events,My Calendar of Events,This Week In Vegas
END:VEVENT
BEGIN:VEVENT
DTSTART;TZID=America/Los_Angeles:20251018T100000
DTEND;TZID=America/Los_Angeles:20251018T180000
DTSTAMP:20260423T150452
CREATED:20250507T184651Z
LAST-MODIFIED:20250520T154648Z
UID:37422-1760781600-1760810400@myvegasmag.com
SUMMARY:Las Vegas Book Festival 2025
DESCRIPTION:The Las Vegas Book Festival returns on Saturday\, October 18\, 2025\, from 10AM to 6PM at the Historic Fifth Street School for a full day dedicated to the power of the written word. \nThis free\, family-friendly event invites book lovers of all ages to enjoy engaging discussions with acclaimed authors\, creative activities for kids\, and an inspiring celebration of storytelling in all its forms. With something for every literary taste\, the festival is Southern Nevada’s premier literary event and a must-attend for readers\, writers\, and curious minds alike. \nAdmission is free and open to all. For updates or vendor inquiries\, visit lasvegasbookfestival.com or contact Sandra Ward at sward@lasvegasnevada.gov.
URL:https://myvegasmag.com/event/las-vegas-book-festival-2025/
LOCATION:Historic 5th Street School\, 401 S 4th S\, Las Vegas\, NV\, 89101\, United States
CATEGORIES:My Calendar of Events
ATTACH;FMTTYPE=image/png:https://myvegasmag.com/wp-content/uploads/2025/05/2fnx77qh.png
END:VEVENT
BEGIN:VEVENT
DTSTART;TZID=America/Los_Angeles:20251022T180000
DTEND;TZID=America/Los_Angeles:20251022T203000
DTSTAMP:20260423T150452
CREATED:20250717T171513Z
LAST-MODIFIED:20250717T172501Z
UID:37807-1761156000-1761165000@myvegasmag.com
SUMMARY:Night of the Witches
DESCRIPTION:Mystic Mona® returns to Downtown Summerlin for the ninth annual Night of the Witches on Wednesday\, October 22 at Grape Street Café & Wine Bar. Admission is $40 and includes a Witches Brew specialty drink\, a raffle ticket\, a word search puzzle\, happy hour pricing\, entry into the costume contest\, and a collectible cup for the first 50 guests. Wizards are welcome too! This spirited evening of Halloween fun supports HELP of Southern Nevada and promises magic\, mischief\, and plenty of good vibes.
URL:https://myvegasmag.com/event/night-of-the-witches/
LOCATION:Grape Street Café & Wine Bar\, 2120 Festival Plaza Dr.\, Las Vegas\, NV\, 89135\, United States
CATEGORIES:My Calendar of Events
ATTACH;FMTTYPE=image/png:https://myvegasmag.com/wp-content/uploads/2025/07/7njocevn.png
END:VEVENT
BEGIN:VEVENT
DTSTART;TZID=America/Los_Angeles:20251107T180000
DTEND;TZID=America/Los_Angeles:20251107T233000
DTSTAMP:20260423T150452
CREATED:20250627T173330Z
LAST-MODIFIED:20250627T173330Z
UID:37716-1762538400-1762558200@myvegasmag.com
SUMMARY:First Friday | Downtown Las Vegas
DESCRIPTION:Monthly First Friday celebration highlighting art\, food\, music\, and more. \nJoin us in the Arts District in Downtown Las Vegas on the 1st Friday of every month to support local food\, art\, music\, and beverage vendors. \nVisit the First Friday website or follow us on Instagram for the latest information about our monthly event.
URL:https://myvegasmag.com/event/first-friday-downtown-las-vegas-6/
LOCATION:Las Vegas Arts District\, 1025 S 1st St\, Las Vegas\, NV\, 89101\, United States
CATEGORIES:My Calendar of Events
ATTACH;FMTTYPE=image/png:https://myvegasmag.com/wp-content/uploads/2025/02/SITE-EVENT-PHOTOS-8.png
END:VEVENT
BEGIN:VEVENT
DTSTART;TZID=America/Los_Angeles:20251115T130000
DTEND;TZID=America/Los_Angeles:20251115T160000
DTSTAMP:20260423T150452
CREATED:20250708T182514Z
LAST-MODIFIED:20250708T182535Z
UID:37762-1763211600-1763222400@myvegasmag.com
SUMMARY:The Las Vegas Pizza Festival
DESCRIPTION:LAS VEGAS PIZZA FESTIVAL RETURNS NOV. 15 🍕 \nGet ready for the cheesiest day of the year! The Las Vegas Pizza Festival is back for its fifth year on Saturday\, November 15\, transforming The INDUSTRIAL Event Space into a pizza lover’s paradise. \nTaste your way through unlimited samples from Vegas’ best pizzerias\, featuring every style from classic New York slices to Detroit\, Sicilian\, and creative artisan pies. Enjoy photo ops\, interactive installations\, bars\, and more. \n🎟️ Tickets: Start at $62 GA | $122 VIP (includes early entry\, exclusive bites\, drinks & VIP lounge)⏰ Time: 1–4 PM (VIP entry at 12 PM)📍 Location: The INDUSTRIAL Event Space\, 2330 Industrial Rd. \n🍕 Featuring favorites like Pizza Rock\, Metro Pizza\, Good Pie\, Evel Pie\, Esther’s Kitchen\, and more.
URL:https://myvegasmag.com/event/the-las-vegas-pizza-festival/
LOCATION:The Industrial\, 2330 Industrial Rd.\, Las Vegas\, NV\, 89102\, United States
CATEGORIES:My Calendar of Events
ATTACH;FMTTYPE=image/png:https://myvegasmag.com/wp-content/uploads/2025/07/gd8ufs1k.png
END:VEVENT
BEGIN:VEVENT
DTSTART;VALUE=DATE:20251121
DTEND;VALUE=DATE:20251229
DTSTAMP:20260423T150452
CREATED:20250717T163831Z
LAST-MODIFIED:20250717T163831Z
UID:37803-1763683200-1766966399@myvegasmag.com
SUMMARY:Enchant Christmas
DESCRIPTION:A MAGICAL NEW THEME\, BIGGER THAN EVER BEFORE \n✨ November 21 – December 28\, 2025📍 Las Vegas Ballpark at Downtown Summerlin \nLas Vegas’ favorite holiday tradition is back! Enchant Christmas returns for its fourth year with a brand-new theme\, larger-than-life light sculptures\, a glittering ice-skating trail\, and festive surprises still to come. \n🎄 Explore the World’s Largest Light Maze⛸ Glide through a magical ice trail🍪 Enjoy holiday treats\, drinks & cheer🎁 Book your holiday party—suites & private spaces available🎟 Christmas in July ticket special begins July 18
URL:https://myvegasmag.com/event/enchant-christmas/
LOCATION:Las Vegas Ballpark\, 1650 S. Pavillion Center Dr.\, Las Vegas\, NV\, 89135\, United States
CATEGORIES:My Calendar of Events
ATTACH;FMTTYPE=image/png:https://myvegasmag.com/wp-content/uploads/2025/07/download-2-scaled.png
END:VEVENT
BEGIN:VEVENT
DTSTART;TZID=America/Los_Angeles:20251205T180000
DTEND;TZID=America/Los_Angeles:20251205T233000
DTSTAMP:20260423T150452
CREATED:20250627T173456Z
LAST-MODIFIED:20250627T173456Z
UID:37718-1764957600-1764977400@myvegasmag.com
SUMMARY:First Friday | Downtown Las Vegas
DESCRIPTION:Monthly First Friday celebration highlighting art\, food\, music\, and more. \nJoin us in the Arts District in Downtown Las Vegas on the 1st Friday of every month to support local food\, art\, music\, and beverage vendors. \nVisit the First Friday website or follow us on Instagram for the latest information about our monthly event.
URL:https://myvegasmag.com/event/first-friday-downtown-las-vegas-7/
LOCATION:Las Vegas Arts District\, 1025 S 1st St\, Las Vegas\, NV\, 89101\, United States
CATEGORIES:My Calendar of Events
ATTACH;FMTTYPE=image/png:https://myvegasmag.com/wp-content/uploads/2025/02/SITE-EVENT-PHOTOS-8.png
END:VEVENT
END:VCALENDAR