BEGIN:VCALENDAR
VERSION:2.0
PRODID:-//MyVegasMag | The Best Las Vegas Magazine - ECPv6.15.18//NONSGML v1.0//EN
CALSCALE:GREGORIAN
METHOD:PUBLISH
X-WR-CALNAME:MyVegasMag | The Best Las Vegas Magazine
X-ORIGINAL-URL:https://myvegasmag.com
X-WR-CALDESC:Events for MyVegasMag | The Best Las Vegas Magazine
REFRESH-INTERVAL;VALUE=DURATION:PT1H
X-Robots-Tag:noindex
X-PUBLISHED-TTL:PT1H
BEGIN:VTIMEZONE
TZID:America/Los_Angeles
BEGIN:DAYLIGHT
TZOFFSETFROM:-0800
TZOFFSETTO:-0700
TZNAME:PDT
DTSTART:20240310T100000
END:DAYLIGHT
BEGIN:STANDARD
TZOFFSETFROM:-0700
TZOFFSETTO:-0800
TZNAME:PST
DTSTART:20241103T090000
END:STANDARD
BEGIN:DAYLIGHT
TZOFFSETFROM:-0800
TZOFFSETTO:-0700
TZNAME:PDT
DTSTART:20250309T100000
END:DAYLIGHT
BEGIN:STANDARD
TZOFFSETFROM:-0700
TZOFFSETTO:-0800
TZNAME:PST
DTSTART:20251102T090000
END:STANDARD
BEGIN:DAYLIGHT
TZOFFSETFROM:-0800
TZOFFSETTO:-0700
TZNAME:PDT
DTSTART:20260308T100000
END:DAYLIGHT
BEGIN:STANDARD
TZOFFSETFROM:-0700
TZOFFSETTO:-0800
TZNAME:PST
DTSTART:20261101T090000
END:STANDARD
END:VTIMEZONE
BEGIN:VEVENT
DTSTART;TZID=America/Los_Angeles:20251115T130000
DTEND;TZID=America/Los_Angeles:20251115T160000
DTSTAMP:20260421T083051
CREATED:20250708T182514Z
LAST-MODIFIED:20250708T182535Z
UID:37762-1763211600-1763222400@myvegasmag.com
SUMMARY:The Las Vegas Pizza Festival
DESCRIPTION:LAS VEGAS PIZZA FESTIVAL RETURNS NOV. 15 🍕 \nGet ready for the cheesiest day of the year! The Las Vegas Pizza Festival is back for its fifth year on Saturday\, November 15\, transforming The INDUSTRIAL Event Space into a pizza lover’s paradise. \nTaste your way through unlimited samples from Vegas’ best pizzerias\, featuring every style from classic New York slices to Detroit\, Sicilian\, and creative artisan pies. Enjoy photo ops\, interactive installations\, bars\, and more. \n🎟️ Tickets: Start at $62 GA | $122 VIP (includes early entry\, exclusive bites\, drinks & VIP lounge)⏰ Time: 1–4 PM (VIP entry at 12 PM)📍 Location: The INDUSTRIAL Event Space\, 2330 Industrial Rd. \n🍕 Featuring favorites like Pizza Rock\, Metro Pizza\, Good Pie\, Evel Pie\, Esther’s Kitchen\, and more.
URL:https://myvegasmag.com/event/the-las-vegas-pizza-festival/
LOCATION:The Industrial\, 2330 Industrial Rd.\, Las Vegas\, NV\, 89102\, United States
CATEGORIES:My Calendar of Events
ATTACH;FMTTYPE=image/png:https://myvegasmag.com/wp-content/uploads/2025/07/gd8ufs1k.png
END:VEVENT
END:VCALENDAR