BEGIN:VCALENDAR
VERSION:2.0
PRODID:-//MyVegasMag | The Best Las Vegas Magazine - ECPv6.15.18//NONSGML v1.0//EN
CALSCALE:GREGORIAN
METHOD:PUBLISH
X-WR-CALNAME:MyVegasMag | The Best Las Vegas Magazine
X-ORIGINAL-URL:https://myvegasmag.com
X-WR-CALDESC:Events for MyVegasMag | The Best Las Vegas Magazine
REFRESH-INTERVAL;VALUE=DURATION:PT1H
X-Robots-Tag:noindex
X-PUBLISHED-TTL:PT1H
BEGIN:VTIMEZONE
TZID:America/Los_Angeles
BEGIN:DAYLIGHT
TZOFFSETFROM:-0800
TZOFFSETTO:-0700
TZNAME:PDT
DTSTART:20240310T100000
END:DAYLIGHT
BEGIN:STANDARD
TZOFFSETFROM:-0700
TZOFFSETTO:-0800
TZNAME:PST
DTSTART:20241103T090000
END:STANDARD
BEGIN:DAYLIGHT
TZOFFSETFROM:-0800
TZOFFSETTO:-0700
TZNAME:PDT
DTSTART:20250309T100000
END:DAYLIGHT
BEGIN:STANDARD
TZOFFSETFROM:-0700
TZOFFSETTO:-0800
TZNAME:PST
DTSTART:20251102T090000
END:STANDARD
BEGIN:DAYLIGHT
TZOFFSETFROM:-0800
TZOFFSETTO:-0700
TZNAME:PDT
DTSTART:20260308T100000
END:DAYLIGHT
BEGIN:STANDARD
TZOFFSETFROM:-0700
TZOFFSETTO:-0800
TZNAME:PST
DTSTART:20261101T090000
END:STANDARD
END:VTIMEZONE
BEGIN:VEVENT
DTSTART;VALUE=DATE:20251010
DTEND;VALUE=DATE:20251013
DTSTAMP:20260421T094817
CREATED:20250505T174534Z
LAST-MODIFIED:20250505T174534Z
UID:37338-1760054400-1760313599@myvegasmag.com
SUMMARY:Best Friends Forever
DESCRIPTION:The second annual Best Friends Forever Fest returns to the Downtown Las Vegas Events Center from October 10–12\, 2025\, delivering three unforgettable days of music and nostalgia. \nWith two stages and no overlapping sets\, fans won’t miss a single moment as iconic acts and emerging artists take the spotlight. This year’s lineup includes Jimmy Eat World\, Jawbreaker\, Minus the Bear (performing Menos el Oso)\, and a very special appearance by Rilo Kiley. Highlights include rare performances\, full-album sets\, long-awaited reunions\, and heartfelt farewells from bands like Mineral\, Cursive\, Pedro the Lion\, and more. \nDoors open daily at 12:00 PM. Don’t miss this celebration of emo\, indie\, and post-hardcore past and present.
URL:https://myvegasmag.com/event/best-friends-forever/
LOCATION:Downtown Las Vegas Event Center\, 200 S 3rd St\, Las Vegas\, NV\, 89101\, United States
CATEGORIES:My Calendar of Events
ATTACH;FMTTYPE=image/png:https://myvegasmag.com/wp-content/uploads/2025/05/SITE-EVENT-PHOTOS-5.png
END:VEVENT
END:VCALENDAR