BEGIN:VCALENDAR
VERSION:2.0
PRODID:-//MyVegasMag | The Best Las Vegas Magazine - ECPv6.15.18//NONSGML v1.0//EN
CALSCALE:GREGORIAN
METHOD:PUBLISH
X-ORIGINAL-URL:https://myvegasmag.com
X-WR-CALDESC:Events for MyVegasMag | The Best Las Vegas Magazine
REFRESH-INTERVAL;VALUE=DURATION:PT1H
X-Robots-Tag:noindex
X-PUBLISHED-TTL:PT1H
BEGIN:VTIMEZONE
TZID:America/Los_Angeles
BEGIN:DAYLIGHT
TZOFFSETFROM:-0800
TZOFFSETTO:-0700
TZNAME:PDT
DTSTART:20240310T100000
END:DAYLIGHT
BEGIN:STANDARD
TZOFFSETFROM:-0700
TZOFFSETTO:-0800
TZNAME:PST
DTSTART:20241103T090000
END:STANDARD
BEGIN:DAYLIGHT
TZOFFSETFROM:-0800
TZOFFSETTO:-0700
TZNAME:PDT
DTSTART:20250309T100000
END:DAYLIGHT
BEGIN:STANDARD
TZOFFSETFROM:-0700
TZOFFSETTO:-0800
TZNAME:PST
DTSTART:20251102T090000
END:STANDARD
BEGIN:DAYLIGHT
TZOFFSETFROM:-0800
TZOFFSETTO:-0700
TZNAME:PDT
DTSTART:20260308T100000
END:DAYLIGHT
BEGIN:STANDARD
TZOFFSETFROM:-0700
TZOFFSETTO:-0800
TZNAME:PST
DTSTART:20261101T090000
END:STANDARD
END:VTIMEZONE
BEGIN:VEVENT
DTSTART;VALUE=DATE:20250924
DTEND;VALUE=DATE:20250929
DTSTAMP:20260421T190328
CREATED:20250507T190044Z
LAST-MODIFIED:20250507T190044Z
UID:37429-1758672000-1759103999@myvegasmag.com
SUMMARY:2025 WideScreen Film & Music Video Festival
DESCRIPTION:The 11th Annual WideScreen Film & Music Video Festival returns to Las Vegas from September 24–28\, 2025\, hosted at the iconic Golden Nugget Hotel & Casino in Downtown Las Vegas. \nThis five-day celebration brings together filmmakers\, music video creators\, and entertainment professionals from around the globe for an unforgettable experience filled with screenings\, networking\, and industry insight. Festival highlights include exclusive pitch sessions\, creator mixers\, VIP meet-and-greets\, and nightly afterparties. Attendees can also enjoy sightseeing tours\, red carpet events\, and the much-anticipated awards ceremony on Saturday night. \nWhether you’re a creative\, an industry pro\, or a fan of film and music culture\, WideScreen offers an immersive and dynamic festival experience in the heart of Las Vegas.
URL:https://myvegasmag.com/event/2025-widescreen-film-music-video-festival/
LOCATION:Golden Nugget Hotel & Casino\, 129 S. Fremont St.\, Las Vegas\, NV\, 89101\, United States
CATEGORIES:My Calendar of Events
ATTACH;FMTTYPE=image/png:https://myvegasmag.com/wp-content/uploads/2025/05/sohswf09.png
END:VEVENT
END:VCALENDAR