BEGIN:VCALENDAR
VERSION:2.0
PRODID:-//MyVegasMag | The Best Las Vegas Magazine - ECPv6.15.20//NONSGML v1.0//EN
CALSCALE:GREGORIAN
METHOD:PUBLISH
X-ORIGINAL-URL:https://myvegasmag.com
X-WR-CALDESC:Events for MyVegasMag | The Best Las Vegas Magazine
REFRESH-INTERVAL;VALUE=DURATION:PT1H
X-Robots-Tag:noindex
X-PUBLISHED-TTL:PT1H
BEGIN:VTIMEZONE
TZID:America/Los_Angeles
BEGIN:DAYLIGHT
TZOFFSETFROM:-0800
TZOFFSETTO:-0700
TZNAME:PDT
DTSTART:20240310T100000
END:DAYLIGHT
BEGIN:STANDARD
TZOFFSETFROM:-0700
TZOFFSETTO:-0800
TZNAME:PST
DTSTART:20241103T090000
END:STANDARD
BEGIN:DAYLIGHT
TZOFFSETFROM:-0800
TZOFFSETTO:-0700
TZNAME:PDT
DTSTART:20250309T100000
END:DAYLIGHT
BEGIN:STANDARD
TZOFFSETFROM:-0700
TZOFFSETTO:-0800
TZNAME:PST
DTSTART:20251102T090000
END:STANDARD
BEGIN:DAYLIGHT
TZOFFSETFROM:-0800
TZOFFSETTO:-0700
TZNAME:PDT
DTSTART:20260308T100000
END:DAYLIGHT
BEGIN:STANDARD
TZOFFSETFROM:-0700
TZOFFSETTO:-0800
TZNAME:PST
DTSTART:20261101T090000
END:STANDARD
END:VTIMEZONE
BEGIN:VEVENT
DTSTART;TZID=America/Los_Angeles:20250704T090000
DTEND;TZID=America/Los_Angeles:20250704T110000
DTSTAMP:20260423T115932
CREATED:20250627T204426Z
LAST-MODIFIED:20250627T204426Z
UID:37754-1751619600-1751626800@myvegasmag.com
SUMMARY:Summerlin Council Patriotic Parade
DESCRIPTION:SUMMERLIN COUNCIL PATRIOTIC PARADEA Las Vegas 4th of July tradition returns with floats\, inflatables\, military honors & more! \n📍 Location: Parade starts at Hillpointe Rd. & Hills Center Dr.\, Summerlin Trails Village\, Las Vegas\, NV📅 Date: Friday\, July 4\, 2025🕘 Time: \n\n\nEscort Division Begins: 8:30 AM \n\n\nParade: 9:00 AM – 11:00 AM🎟️ Admission: Free and open to the public🌐 View Event Photos \n\n\n🎉 Parade Highlights: \n\n\n70 Parade Entries: Patriotic floats\, themed displays\, performing groups\, sports teams\, and more \n\n\nGiant Inflatables: 50-ft. American Eagle\, 40-ft. Grand Old Flag\, 30-ft. inflatable shark “Jaws\,” Parade-a-saurus\, and more \n\n\nMilitary & Veterans Groups: Nellis and Creech Air Force Bases\, American Legion\, VFW\, and more \n\n\nPro Sports Appearances: Vegas Golden Knights\, Las Vegas Raiders\, Las Vegas Aviators\, UNLV Athletics\, Las Vegas Aces \n\n\nPop Culture Floats: Bluey\, Moana\, Indiana Jones\, Mario Kart\, Star Wars\, Wicked\, and Candyland \n\n\nPerformers: Live Arts Collective\, Guan Strong Lion Arts\, Las Vegas Kaminari Taiko\, Desert Angels gospel choir\, and Palo Verde HS Band \n\n\nSpecial Guests: \n\n\nGrand Marshals: Major General (Ret) Ondra L. Berry & Colonel Ethan E. Sabin \n\n\n2\,500+ participants and 500 volunteers from schools and community groups \n\n\n\n\n📌 Parade Viewing Info: \n\n\nCurbside viewing areas available on a first-come\, first-served basis \n\n\nSet-up begins at 7:00 AM on July 3 \n\n\nBring water\, sunscreen\, and shade—patriotic attire encouraged! \n\n\n🏅 Presented By: The Summerlin Council🎖️ Title Sponsor: Howard Hughes Corporation/Summerlin📣 Major Sponsors: Station Casinos\, Summerlin Hospital\, Cox\, Tri Pointe Homes\, One Hour Air\, Pure Plumbing & Air\, BrightView\, and more \nCome early and celebrate the red\, white\, and blue at Southern Nevada’s most colorful Independence Day tradition!
URL:https://myvegasmag.com/event/summerlin-council-patriotic-parade/
LOCATION:NV
CATEGORIES:My Calendar of Events
ATTACH;FMTTYPE=image/jpeg:https://myvegasmag.com/wp-content/uploads/2025/06/TSC_July_4th_Parade_2024_EJ_1349-scaled.jpg
END:VEVENT
BEGIN:VEVENT
DTSTART;TZID=America/Los_Angeles:20250704T180000
DTEND;TZID=America/Los_Angeles:20250704T213000
DTSTAMP:20260423T115932
CREATED:20250627T175248Z
LAST-MODIFIED:20250627T175248Z
UID:37732-1751652000-1751664600@myvegasmag.com
SUMMARY:Fourth of July Celebration
DESCRIPTION:FOURTH OF JULY FUN LIGHTS UP HERITAGE PARKLive music\, fireworks\, and family fun—Henderson-style \nCelebrate Independence Day the Henderson way at Heritage Park on July 4! Bring your blankets\, lawn chairs\, and patriotic spirit for an evening of free\, family-friendly fun featuring live entertainment\, food\, and a dazzling fireworks show. \n📍 Location: Heritage Park\, 350 S. Racetrack Rd.\, Henderson\, NV📅 Date: Thursday\, July 4\, 2025🕕 Time: 6:00 PM – 9:30 PM💲 Admission: FREE🎶 Entertainment: \n\n\nLive music starting at 6 PM \n\n\nCountry artist Tony Jackson performing live🎆 Fireworks Show: \n\n\nStarts at 9:00 PM \n\n\nSet to a custom soundtrack simulcast live by Mix 94.1 \n\n\nGrab your red\, white\, and blue—this all-American celebration is one you won’t want to miss!
URL:https://myvegasmag.com/event/fourth-of-july-celebration/
LOCATION:Heritage Park\, 300 S Racetrack Rd\, Henderson\, NV\, 89015\, United States
CATEGORIES:My Calendar of Events
ATTACH;FMTTYPE=image/png:https://myvegasmag.com/wp-content/uploads/2025/06/4hwnz5j5.png
END:VEVENT
BEGIN:VEVENT
DTSTART;TZID=America/Los_Angeles:20250704T180000
DTEND;TZID=America/Los_Angeles:20250704T233000
DTSTAMP:20260423T115932
CREATED:20250627T172504Z
LAST-MODIFIED:20250627T172504Z
UID:37707-1751652000-1751671800@myvegasmag.com
SUMMARY:First Friday | Downtown Las Vegas
DESCRIPTION:Monthly First Friday celebration highlighting art\, food\, music\, and more. \nJoin us in the Arts District in Downtown Las Vegas on the 1st Friday of every month to support local food\, art\, music\, and beverage vendors. \nVisit the First Friday website or follow us on Instagram for the latest information about our monthly event.
URL:https://myvegasmag.com/event/first-friday-downtown-las-vegas-3/
LOCATION:Las Vegas Arts District\, 1025 S 1st St\, Las Vegas\, NV\, 89101\, United States
CATEGORIES:My Calendar of Events
ATTACH;FMTTYPE=image/png:https://myvegasmag.com/wp-content/uploads/2025/02/SITE-EVENT-PHOTOS-8.png
END:VEVENT
BEGIN:VEVENT
DTSTART;TZID=America/Los_Angeles:20250704T180000
DTEND;TZID=America/Los_Angeles:20250704T233000
DTSTAMP:20260423T115932
CREATED:20250627T201846Z
LAST-MODIFIED:20250627T201846Z
UID:37743-1751652000-1751671800@myvegasmag.com
SUMMARY:Wing Off Qualifier at the Plaza Hotel & Casino
DESCRIPTION:WING-EATING CHAMPS WANTED!Plaza hosts July 4 “Wing Off” qualifier for Wing Bowl® 2026 \nGet ready for finger-lickin’ frenzy at the first-ever Las Vegas Wing Off\, happening July 4 at 6 PM at Carousel Bar outside the Plaza Hotel & Casino. This free-to-attend event kicks off the road to Wing Bowl® 2026\, the legendary chicken wing-eating competition originally founded in Philadelphia. \n📍 Location: Carousel Bar at Plaza Hotel & Casino\, Las Vegas\, NV📅 Date: Friday\, July 4\, 2025🕕 Time: 6:00 PM🎟️ Admission: Free for spectators \n🍗 What’s on the Line: \n\n\n$1\,000 cash prize for whoever eats the most wings in 10 minutes \n\n\nTop 2 contestants qualify for the Wing Bowl 2026 main event (Feb. 7) \n\n\nFuture qualifying rounds to be held in Las Vegas and Philadelphia \n\n\n🎉 Wing Bowl 2026 Preview: \n\n\nFeb. 7\, 2026 at the Plaza Showroom \n\n\n$5\,000 grand prize \n\n\n20 competitors in 3 rounds \n\n\nLive crowd + online broadcast \n\n\nFeaturing the return of the Wingettes \n\n\nReady to compete—or just watch the madness unfold? Head to the Plaza this Fourth of July and join the saucy showdown that’s making its Vegas debut.
URL:https://myvegasmag.com/event/wing-off-qualifier-at-the-plaza-hotel-casino/
LOCATION:Plaza Hotel & Casino\, 1 Main Street\, Las Vegas\, NV\, 89101\, United States
CATEGORIES:My Calendar of Events
ATTACH;FMTTYPE=image/jpeg:https://myvegasmag.com/wp-content/uploads/2025/06/Wing-Bowl-2026-Logo.jpg
END:VEVENT
END:VCALENDAR